BEGIN:VCALENDAR
PRODID:-//kirchenweb.ch gmbh//veranstaltungsausgabe v2.0//DE
VERSION:2.0
METHOD:PUBLISH
BEGIN:VEVENT
DTSTART:20240112T130000Z
DTEND:20240112T153000Z
LOCATION:HofAckerZentrum\, Alpenstrasse 176\, 8203 Schaffhausen
TRANSP:OPAQUE
SEQUENCE:0
UID:148487-veranstaltung@ref-sh.ch
DTSTAMP:20231121T163007Z
DESCRIPTION:\n\nKontakt: Adriana Di Cesare\n\nWeitere Infos:
  https://www.ref-sh.ch/veranstaltung/148487
SUMMARY:Mir mit eu z' Buechthale
PRIORITY:5
X-MICROSOFT-CDO-IMPORTANCE:1
CLASS:PUBLIC
END:VEVENT
END:VCALENDAR
