BEGIN:VCALENDAR
PRODID:-//kirchenweb.ch gmbh//veranstaltungsausgabe v2.0//DE
VERSION:2.0
METHOD:PUBLISH
BEGIN:VEVENT
DTSTART:20230310T173000Z
DTEND:20230310T210000Z
LOCATION:Mesmerhuus Löhningen\, \,
TRANSP:OPAQUE
SEQUENCE:0
UID:148412-veranstaltung@ref-sh.ch
DTSTAMP:20230116T183842Z
DESCRIPTION:Kontakt: Maja Ernst\, Privatschule Tandem\n\nWeitere Infos:
  https://www.ref-sh.ch/veranstaltung/148412
SUMMARY:Elternweiterbildung "Knacknuss Medien"
PRIORITY:5
X-MICROSOFT-CDO-IMPORTANCE:1
CLASS:PUBLIC
END:VEVENT
END:VCALENDAR
