BEGIN:VCALENDAR
PRODID:-//kirchenweb.ch gmbh//veranstaltungsausgabe v2.0//DE
VERSION:2.0
METHOD:PUBLISH
BEGIN:VEVENT
DTSTART:20230305T160000Z
DTEND:20230305T170000Z
LOCATION:Kirche Osterfingen\, Dorfstrasse 78\, 8218 Osterfingen
TRANSP:OPAQUE
SEQUENCE:0
UID:148208-veranstaltung@ref-sh.ch
DTSTAMP:20230302T121250Z
DESCRIPTION:Seit 2010 ist das Trio mit Joscha Schraff (Klavier)\, Xaver
  Rüegg (Bass) und Paul Amereller (Schlagzeug) gemeinsam unterwegs. J3
  präsentiert eine junge\, kraftvolle Musik\, die \nsich rasch öffnet und
  dann viel zu entdecken bietet. 2021 erhielt die Band den Förderbeitrag 
 \ndes Kantons Schaffhausen und münzten diesen 2022 in ein Album um\,
  welches aufhorchen lässt. «Here’s To You» heisst das Werk und ist
  eine Hommage an das Leben und die Musik\n\nKontakt: Ruth Stoll-Mathys\n
 \nWeitere Infos: https://www.ref-sh.ch/veranstaltung/148208
SUMMARY:Konzert Joscha Schraff Trio
PRIORITY:5
X-MICROSOFT-CDO-IMPORTANCE:1
CLASS:PUBLIC
END:VEVENT
END:VCALENDAR
