BEGIN:VCALENDAR
PRODID:-//kirchenweb.ch gmbh//veranstaltungsausgabe v2.0//DE
VERSION:2.0
METHOD:PUBLISH
BEGIN:VEVENT
DTSTART:20230318T073000Z
DTEND:20230318T110000Z
LOCATION:Chilästöckli\, Dorfstrasse  35\, 8219 Trasadingen
TRANSP:OPAQUE
SEQUENCE:0
UID:148180-veranstaltung@ref-sh.ch
DTSTAMP:20240312T101227Z
DESCRIPTION:Kontakt: judith.schaad@ref-sh.ch\n\nWeitere Infos:
  https://www.ref-sh.ch/veranstaltung/148180
SUMMARY:Rosenverkauf mit Kafi
PRIORITY:5
X-MICROSOFT-CDO-IMPORTANCE:1
CLASS:PUBLIC
END:VEVENT
END:VCALENDAR
