BEGIN:VCALENDAR
PRODID:-//kirchenweb.ch gmbh//veranstaltungsausgabe v2.0//DE
VERSION:2.0
METHOD:PUBLISH
BEGIN:VEVENT
DTSTART:20230301T123000Z
DTEND:20230301T150000Z
LOCATION:Pfarrhofraum Wilchingen\, Chilchhof 1\, 8217 Wilchingen
TRANSP:OPAQUE
SEQUENCE:0
UID:148179-veranstaltung@ref-sh.ch
DTSTAMP:20230114T163006Z
DESCRIPTION:bitte mit Anmeldung\n\nKontakt: Ruth Stoll-Mathys\n\nWeitere
  Infos: https://www.ref-sh.ch/veranstaltung/148179
SUMMARY:Filmnachmittag
PRIORITY:5
X-MICROSOFT-CDO-IMPORTANCE:1
CLASS:PUBLIC
END:VEVENT
END:VCALENDAR
