BEGIN:VCALENDAR
PRODID:-//kirchenweb.ch gmbh//veranstaltungsausgabe v2.0//DE
VERSION:2.0
METHOD:PUBLISH
BEGIN:VEVENT
DTSTART:20230122T084500Z
DTEND:20230122T094500Z
LOCATION:Mesmerhuus\, Kloster 14\, 8224 Löhningen
TRANSP:OPAQUE
SEQUENCE:0
UID:147983-veranstaltung@ref-sh.ch
DTSTAMP:20230110T161857Z
DESCRIPTION:Kontakt: Beatrice Roost\n\nWeitere Infos:
  https://www.ref-sh.ch/veranstaltung/147983
SUMMARY:Sonntagschule
PRIORITY:5
X-MICROSOFT-CDO-IMPORTANCE:1
CLASS:PUBLIC
END:VEVENT
END:VCALENDAR
