BEGIN:VCALENDAR
PRODID:-//kirchenweb.ch gmbh//veranstaltungsausgabe v2.0//DE
VERSION:2.0
METHOD:PUBLISH
BEGIN:VEVENT
DTSTART:20230110T180000Z
DTEND:20230110T220000Z
LOCATION:Mesmerhuus - Dachgeschoss\, \,
TRANSP:OPAQUE
SEQUENCE:0
UID:147943-veranstaltung@ref-sh.ch
DTSTAMP:20230121T110846Z
DESCRIPTION:Kontakt: thomas.stamm@ref-sh.ch\n\nWeitere Infos:
  https://www.ref-sh.ch/veranstaltung/147943
SUMMARY:KiSta-Sitzung
PRIORITY:5
X-MICROSOFT-CDO-IMPORTANCE:1
CLASS:PUBLIC
END:VEVENT
END:VCALENDAR
