BEGIN:VCALENDAR
PRODID:-//kirchenweb.ch gmbh//veranstaltungsausgabe v2.0//DE
VERSION:2.0
METHOD:PUBLISH
BEGIN:VEVENT
DTSTART:20240106T190000Z
DTEND:20240106T213000Z
LOCATION:Münster\, Münsterplatz\, 8200 Schaffhausen
TRANSP:OPAQUE
SEQUENCE:0
UID:147897-veranstaltung@ref-sh.ch
DTSTAMP:20240131T135411Z
DESCRIPTION:Die Nacht der Lichter: ein Lichtermeer aus Kerzen im
  stimmungsvollen Münster\, Ikonen und meditative Gesänge aus Taizé\,
  Stille und Worte aus der Heiligen Schrift in verschiedenen Sprachen: eine
  einzigartige Gelegenheit\, Gott zu begegnen. \nJugendliche und
  Junggebliebene haben die Möglichkeit\, sich vorne auf den Boden zu
  setzen. Bänke\, Sitzkissen beim Kerzenleuchter\, Bodenheizung und
  Teppiche machen den Winterabend bequem. \nMitwirkung: Taizé-Chor
  Schaffhausen\, Flor Stammer – Violine\, Ralph Juraubek – Querflöte\,
  Christoph Honegger - Leitung und E-Piano; \nPfarrerin Verena Hubmann und
  Pfarrer Roland Diethelm\nSamstag\, 6. Januar\, ab 20 Uhr\, im Münster
  Schaffhausen\n\nKontakt: Sekretariat St.Johann-Münster\nPfarrer Roland
  Diethelm\n\nWeitere Infos: https://www.ref-sh.ch/veranstaltung/147897
SUMMARY:Nacht der Lichter / ökumenischer Taizé-Gottesdienst am
  Dreikönigsabend
PRIORITY:5
X-MICROSOFT-CDO-IMPORTANCE:1
CLASS:PUBLIC
END:VEVENT
END:VCALENDAR
