BEGIN:VCALENDAR
PRODID:-//kirchenweb.ch gmbh//veranstaltungsausgabe v2.0//DE
VERSION:2.0
METHOD:PUBLISH
BEGIN:VEVENT
DTSTART:20230907T071500Z
DTEND:20230907T160000Z
LOCATION:Ausflug\, \,
TRANSP:OPAQUE
SEQUENCE:0
UID:147604-veranstaltung@ref-sh.ch
DTSTAMP:20230822T140931Z
DESCRIPTION:9.15 Uhr Bistro Storchen\n\nDie Reise führt mit dem Car via
  Schaffhausen - Winterthur - dann entlang dem Zürichsee nach Einsiedeln.
 \n\nCa. 11 Uhr Ankunft in Einsiedeln und individueller Aufenthalt rund um
  das Kloster.\n\n11.45 Uhr kurzer Fussmarsch (180 m\, 3 Minuten) zum
  Restaurant «Drei Könige» zum\nMittagessen um 12 Uhr.\n\n13.45 Uhr ca.
  Aufbruch zu Fuss (350m\, 5 Minuten) zum Museum Diorama\, Weihnachtskrippe
  und Mineraliensammlung. Individuelle Besichtigung bis 15 Uhr.\n\n15.15
  Uhr Abfahrt nach Illnau-Effretikon\, Restaurant Rössli\, zum Kaffeehalt.
 \n\n16.15 Uhr ca. Ankunft Restaurant Rössli\, Illnau-Effretikon.\n\n17.15
  Uhr Weiterfahrt auf direktem Weg nach Guntmadingen und Löhningen.\n
 \nKontakt: ruedi.spoerndli@ref-sh.ch\n\nWeitere Infos:
  https://www.ref-sh.ch/veranstaltung/147604
SUMMARY:Seniorenausflug
PRIORITY:5
X-MICROSOFT-CDO-IMPORTANCE:1
CLASS:PUBLIC
END:VEVENT
END:VCALENDAR
