BEGIN:VCALENDAR
PRODID:-//kirchenweb.ch gmbh//veranstaltungsausgabe v2.0//DE
VERSION:2.0
METHOD:PUBLISH
BEGIN:VEVENT
DTSTART:20231210T160000Z
DTEND:20231210T170000Z
LOCATION:Kirche\, \,  Buchberg-Rüdlingen
TRANSP:OPAQUE
SEQUENCE:0
UID:146731-veranstaltung@ref-sh.ch
DTSTAMP:20231207T155141Z
DESCRIPTION:Adventsfeier mit dem Top Step Team mit den Geschenken für die
  Top Step Kinder unter dem Christbaum.\n\nKontakt: Barbara Erdmann\n
 \nWeitere Infos: https://www.ref-sh.ch/veranstaltung/146731
SUMMARY:Adventsspecial
PRIORITY:5
X-MICROSOFT-CDO-IMPORTANCE:1
CLASS:PUBLIC
END:VEVENT
END:VCALENDAR
