BEGIN:VCALENDAR
PRODID:-//kirchenweb.ch gmbh//veranstaltungsausgabe v2.0//DE
VERSION:2.0
METHOD:PUBLISH
BEGIN:VEVENT
DTSTART:20230302T141500Z
DTEND:20230302T150000Z
LOCATION:Untizimmer Wilchingen\, Chilchhof 1\, 8217 Wilchingen
TRANSP:OPAQUE
SEQUENCE:0
UID:146703-veranstaltung@ref-sh.ch
DTSTAMP:20221214T160742Z
DESCRIPTION:Kontakt: Livia Strauss\n\nWeitere Infos:
  https://www.ref-sh.ch/veranstaltung/146703
SUMMARY:5.-Klass-Unti Osterfingen-Wilchingen
PRIORITY:5
X-MICROSOFT-CDO-IMPORTANCE:1
CLASS:PUBLIC
END:VEVENT
END:VCALENDAR
