BEGIN:VCALENDAR
PRODID:-//kirchenweb.ch gmbh//veranstaltungsausgabe v2.0//DE
VERSION:2.0
METHOD:PUBLISH
BEGIN:VEVENT
DTSTART:20230307T063000Z
DTEND:20230307T071500Z
LOCATION:Chilestöckli Trasadingen\, Dorfstrasse 35\, 8219 Trasadingen
TRANSP:OPAQUE
SEQUENCE:0
UID:146695-veranstaltung@ref-sh.ch
DTSTAMP:20221214T160636Z
DESCRIPTION:Kontakt: Livia Strauss\n\nWeitere Infos:
  https://www.ref-sh.ch/veranstaltung/146695
SUMMARY:5.-Klass-Unti Trasadingen
PRIORITY:5
X-MICROSOFT-CDO-IMPORTANCE:1
CLASS:PUBLIC
END:VEVENT
END:VCALENDAR
