BEGIN:VCALENDAR
PRODID:-//kirchenweb.ch gmbh//veranstaltungsausgabe v2.0//DE
VERSION:2.0
METHOD:PUBLISH
BEGIN:VEVENT
DTSTART:20221225T053000Z
DTEND:20221225T083000Z
LOCATION:Kirchgemeindehaus Beringen\, \,
TRANSP:OPAQUE
SEQUENCE:0
UID:146616-veranstaltung@ref-sh.ch
DTSTAMP:20231003T074914Z
DESCRIPTION:Kontakt: Verena Gerber\n\nWeitere Infos:
  https://www.ref-sh.ch/veranstaltung/146616
SUMMARY:Kurrendesingen und gemeinsames Morgenessen\, Kirchenchor
PRIORITY:5
X-MICROSOFT-CDO-IMPORTANCE:1
CLASS:PUBLIC
END:VEVENT
END:VCALENDAR
