BEGIN:VCALENDAR
PRODID:-//kirchenweb.ch gmbh//veranstaltungsausgabe v2.0//DE
VERSION:2.0
METHOD:PUBLISH
BEGIN:VEVENT
DTSTART:20230224T170000Z
DTEND:20230224T180000Z
LOCATION:Bergkirche Wilchingen\, Chilchhof 1\, 8217 Wilchingen
TRANSP:OPAQUE
SEQUENCE:0
UID:146600-veranstaltung@ref-sh.ch
DTSTAMP:20230202T102005Z
DESCRIPTION:Wir leben nicht allein. Als Menschen und Lebewesen sind wir
  miteinander verbunden\, wie ein Mobile. Dieses Mobile ist aus dem
  Gleichgericht geraten: Die Klimaerwärmung ist immer mehr spürbar\,
  besonders für Menschen im globalen Süden. Was können wir dafür tun\,
  dass das Mobile wieder ins Gleichgewicht kommt? Und was hat das mit
  unserem Glauben zu tun? Diesen Fragen wollen wir im Jugendgottesdienst
  nachgehen\, mit Aktionen\, Texten und Musik. Jugendliche aus TOW
  gestalten die Lieder mit.\n\nKontakt: Livia Strauss\n\nWeitere Infos:
  https://www.ref-sh.ch/veranstaltung/146600
SUMMARY:YouGo "Ich mische mich ein"
PRIORITY:5
X-MICROSOFT-CDO-IMPORTANCE:1
CLASS:PUBLIC
END:VEVENT
END:VCALENDAR
