BEGIN:VCALENDAR
PRODID:-//kirchenweb.ch gmbh//veranstaltungsausgabe v2.0//DE
VERSION:2.0
METHOD:PUBLISH
BEGIN:VEVENT
DTSTART:20230730T073000Z
DTEND:20230730T083000Z
LOCATION:Bergkirche Hallau\, Bergstrasse\, 8215 Hallau
TRANSP:OPAQUE
SEQUENCE:0
UID:146560-veranstaltung@ref-sh.ch
DTSTAMP:20230719T154843Z
DESCRIPTION:Kontakt: Pfr. Martin Breitenfeldt \n\nWeitere Infos:
  https://www.ref-sh.ch/veranstaltung/146560
SUMMARY:Regio Gottesdienst Hallau mit Abschied von Pfarrer Breitenfeldt
PRIORITY:5
X-MICROSOFT-CDO-IMPORTANCE:1
CLASS:PUBLIC
END:VEVENT
END:VCALENDAR
