BEGIN:VCALENDAR
PRODID:-//kirchenweb.ch gmbh//veranstaltungsausgabe v2.0//DE
VERSION:2.0
METHOD:PUBLISH
BEGIN:VEVENT
DTSTART:20230308T083000Z
DTEND:20230308T123000Z
LOCATION:Chilestöckli Trasadingen\, Dorfstrasse 35\, 8219 Trasadingen
TRANSP:OPAQUE
SEQUENCE:0
UID:146176-veranstaltung@ref-sh.ch
DTSTAMP:20230303T111153Z
DESCRIPTION:„Begegnungen bereichern\, bringen Farbe und Gemeinschaft in
  unser Dorf.“\n\nMit diesem Motto lädt das Team vom Mittwuchsträff
  Gross und Klein\, Jung und Alt ins Chilestöckli ein. Zum Beisammensein\,
  miteinander reden\, sich zu treffen. Auch für das leibliche Wohl ist
  gesorgt. Sei es zum gleich essen oder auch zum mitnehmen. Salzige und
  süsse „Dünne“ warten auf Gäste und die hausgemachte Suppe ist
  ebenso beliebt wie das Brot vom Häfeli-Beck. Dazu gibt’s Kaffee vom
  Espresso bis zum Latte macchiato\, Tee oder einen frischen Most. Und
  Sirup für die ganz Kleinen.\n\nDas Team freut sich auf viele Gäste.\n
 \nKontakt: Stefan Leistner Baumgardt\n\nWeitere Infos:
  https://www.ref-sh.ch/veranstaltung/146176
SUMMARY:Mittwochstreff
PRIORITY:5
X-MICROSOFT-CDO-IMPORTANCE:1
CLASS:PUBLIC
END:VEVENT
END:VCALENDAR
