BEGIN:VCALENDAR
PRODID:-//kirchenweb.ch gmbh//veranstaltungsausgabe v2.0//DE
VERSION:2.0
METHOD:PUBLISH
BEGIN:VEVENT
DTSTART:20230108T084500Z
DTEND:20230108T100000Z
LOCATION:Kirchgemeindehaus Beringen\, Steig 2\, 8222 Beringen
TRANSP:OPAQUE
SEQUENCE:0
UID:146137-veranstaltung@ref-sh.ch
DTSTAMP:20221208T075816Z
DESCRIPTION:Kontakt: Manuela Furrer\n\nWeitere Infos:
  https://www.ref-sh.ch/veranstaltung/146137
SUMMARY:Sonntagschule
PRIORITY:5
X-MICROSOFT-CDO-IMPORTANCE:1
CLASS:PUBLIC
END:VEVENT
END:VCALENDAR
