BEGIN:VCALENDAR
PRODID:-//kirchenweb.ch gmbh//veranstaltungsausgabe v2.0//DE
VERSION:2.0
METHOD:PUBLISH
BEGIN:VEVENT
DTSTART:20230112T180000Z
DTEND:20230112T200000Z
LOCATION:Check-in-Beringen-Raum\, Zelgstrasse 10\, 8222 Beringen
TRANSP:OPAQUE
SEQUENCE:0
UID:145753-veranstaltung@ref-sh.ch
DTSTAMP:20221201T163008Z
DESCRIPTION:Check-in Plus\nDer
  https://www.ref-sh.ch/kg/check-in-beringen/check-in-beringens ist jeden
  Donnerstag von 19:00-21:00 für alle Jugendlichen ab der Oberstufe
  geöffnet. Gemütliches zusammensitzen\, plaudern und Snacks geniessen
  steht auf dem Programm. Hauptleiter vom Check-in Plus ist
  https://www.ref-sh.ch/kg/beringen/kay.zimmermann. Verantwortlicher
  Jugendarbeiter ist https://www.ref-sh.ch/kg/gaechlingen/sebastian.ebi\n
 \nKontakt: Hauptverantwortlich Check-in Plus Kay Zimmermann\, Mühleweg
  4\, 8222 Beringen\, kay.zimmermann@ref-sh.ch\nJugendarbeiter/
  Teambegleitung Sebastian Ebi\, sebastian.ebi@ref-sh.ch\, 079 576 99 94\n
 \nWeitere Infos: https://www.ref-sh.ch/veranstaltung/145753
SUMMARY:Check-in Plus
PRIORITY:5
X-MICROSOFT-CDO-IMPORTANCE:1
CLASS:PUBLIC
END:VEVENT
END:VCALENDAR
