BEGIN:VCALENDAR
PRODID:-//kirchenweb.ch gmbh//veranstaltungsausgabe v2.0//DE
VERSION:2.0
METHOD:PUBLISH
BEGIN:VEVENT
DTSTART:20230315T133000Z
DTEND:20230315T153000Z
LOCATION:Chilestöckli Trasadingen\, Dorfstrasse 35\, 8219 Trasadingen
TRANSP:OPAQUE
SEQUENCE:0
UID:145733-veranstaltung@ref-sh.ch
DTSTAMP:20221201T163015Z
DESCRIPTION:Pfarrer Leistner Baumgardt verschiebt sein Büro ins
  Chilestöckli und ist dort gerne für Sie ansprechbar.\n\nKontakt: Stefan
  Leistner Baumgardt\n\nWeitere Infos:
  https://www.ref-sh.ch/veranstaltung/145733
SUMMARY:Pfarrer bei der Arbeit - bitte stören!
PRIORITY:5
X-MICROSOFT-CDO-IMPORTANCE:1
CLASS:PUBLIC
END:VEVENT
END:VCALENDAR
