BEGIN:VCALENDAR
PRODID:-//kirchenweb.ch gmbh//veranstaltungsausgabe v2.0//DE
VERSION:2.0
METHOD:PUBLISH
BEGIN:VEVENT
DTSTART:20231012T080000Z
DTEND:20231012T090000Z
LOCATION:Altersheim Ruhesitz\, Zelgstr. 2\, 8222 Beringen
TRANSP:OPAQUE
SEQUENCE:0
UID:145681-veranstaltung@ref-sh.ch
DTSTAMP:20230704T065536Z
DESCRIPTION:Kontakt: Pfarrer Stefan Leistner-Baumgardt\, Neunkirch\n
 \nWeitere Infos: https://www.ref-sh.ch/veranstaltung/145681
SUMMARY:Gottesdienst im Altersheim Ruhesitz
PRIORITY:5
X-MICROSOFT-CDO-IMPORTANCE:1
CLASS:PUBLIC
END:VEVENT
END:VCALENDAR
