BEGIN:VCALENDAR
PRODID:-//kirchenweb.ch gmbh//veranstaltungsausgabe v2.0//DE
VERSION:2.0
METHOD:PUBLISH
BEGIN:VEVENT
DTSTART:20230330T080000Z
DTEND:20230330T090000Z
LOCATION:Altersheim Ruhesitz\, Zelgstr. 2\, 8222 Beringen
TRANSP:OPAQUE
SEQUENCE:0
UID:145654-veranstaltung@ref-sh.ch
DTSTAMP:20221201T100425Z
DESCRIPTION:Kontakt: Pfarrerin Jutta Schenk\n\nWeitere Infos:
  https://www.ref-sh.ch/veranstaltung/145654
SUMMARY:Gottesdienst im Altersheim Ruhesitz
PRIORITY:5
X-MICROSOFT-CDO-IMPORTANCE:1
CLASS:PUBLIC
END:VEVENT
END:VCALENDAR
