BEGIN:VCALENDAR
PRODID:-//kirchenweb.ch gmbh//veranstaltungsausgabe v2.0//DE
VERSION:2.0
METHOD:PUBLISH
BEGIN:VEVENT
DTSTART:20230216T090000Z
DTEND:20230216T100000Z
LOCATION:Altersheim Ruhesitz\, Zelgstr. 2\, 8222 Beringen
TRANSP:OPAQUE
SEQUENCE:0
UID:145649-veranstaltung@ref-sh.ch
DTSTAMP:20221201T102208Z
DESCRIPTION:Kontakt: Pfrn. Karin Baumgartner\n\nWeitere Infos:
  https://www.ref-sh.ch/veranstaltung/145649
SUMMARY:Gottesdienst im Altersheim Ruhesitz
PRIORITY:5
X-MICROSOFT-CDO-IMPORTANCE:1
CLASS:PUBLIC
END:VEVENT
END:VCALENDAR
