BEGIN:VCALENDAR
PRODID:-//kirchenweb.ch gmbh//veranstaltungsausgabe v2.0//DE
VERSION:2.0
METHOD:PUBLISH
BEGIN:VEVENT
DTSTART:20221226T160000Z
DTEND:20221226T170000Z
LOCATION:Kirche\, \,  Buchberg-Rüdlingen
TRANSP:OPAQUE
SEQUENCE:0
UID:145567-veranstaltung@ref-sh.ch
DTSTAMP:20221216T125308Z
DESCRIPTION:Yumi Golay (Sopran) \nElisabeth Boeglin (Harfe)\n\nEintritt
  frei\, Kollekte\n\n\nKontakt: barbara.erdmann@ref-sh.ch\n\nWeitere Infos:
  https://www.ref-sh.ch/veranstaltung/145567
SUMMARY:Weihnachtskonzert
PRIORITY:5
X-MICROSOFT-CDO-IMPORTANCE:1
CLASS:PUBLIC
END:VEVENT
END:VCALENDAR
