BEGIN:VCALENDAR
PRODID:-//kirchenweb.ch gmbh//veranstaltungsausgabe v2.0//DE
VERSION:2.0
METHOD:PUBLISH
BEGIN:VEVENT
DTSTART:20231226T160000Z
DTEND:20231226T170000Z
LOCATION:Kirche\, \,  Buchberg-Rüdlingen
TRANSP:OPAQUE
SEQUENCE:0
UID:145566-veranstaltung@ref-sh.ch
DTSTAMP:20231117T205113Z
DESCRIPTION:Yumi Golay Sopran\, \nElisabeth Boeglin\, Harfe\nHeidi
  Izzo-Killer\, Querflöte\n\nKontakt: barbara.erdmann@ref-sh.ch\n\nWeitere
  Infos: https://www.ref-sh.ch/veranstaltung/145566
SUMMARY:Weihnachtskonzert mit Yumi Golay
PRIORITY:5
X-MICROSOFT-CDO-IMPORTANCE:1
CLASS:PUBLIC
END:VEVENT
END:VCALENDAR
