BEGIN:VCALENDAR
PRODID:-//kirchenweb.ch gmbh//veranstaltungsausgabe v2.0//DE
VERSION:2.0
METHOD:PUBLISH
BEGIN:VEVENT
DTSTART:20230110T184500Z
DTEND:20230110T203000Z
LOCATION:Kirchgemeindehaus Beringen\, Steig 2\, 8222 Beringen
TRANSP:OPAQUE
SEQUENCE:0
UID:145518-veranstaltung@ref-sh.ch
DTSTAMP:20221129T133619Z
DESCRIPTION:Kontakt: Verena Gerber\n\nWeitere Infos:
  https://www.ref-sh.ch/veranstaltung/145518
SUMMARY:Chorprobe
PRIORITY:5
X-MICROSOFT-CDO-IMPORTANCE:1
CLASS:PUBLIC
END:VEVENT
END:VCALENDAR
