BEGIN:VCALENDAR
PRODID:-//kirchenweb.ch gmbh//veranstaltungsausgabe v2.0//DE
VERSION:2.0
METHOD:PUBLISH
BEGIN:VEVENT
DTSTART:20230113T173000Z
DTEND:20230113T210000Z
LOCATION:Check-in-Beringen-Raum\, Zelgstrasse 10\, 8222 Beringen
TRANSP:OPAQUE
SEQUENCE:0
UID:145446-veranstaltung@ref-sh.ch
DTSTAMP:20221129T163012Z
DESCRIPTION:Für alle ab der Oberstufe ist der
  https://www.ref-sh.ch/kg/check-in-beringen/check-in-beringen von
  18:30-22:00 Uhr offen.\nFür alle 5. Klässler und 6. Klässler ist der
  Check-in von 18:30-21:00 Uhr offen.\nWir machen Games\, werden kreativ
  und sind offen für jede noch so verrückte Projekt-Idee\, bei deren
  Umsetzung wir euch unterstützen können.\nUngefähr jeden zweiten
  Freitag kochen und essen wir gemeinsam. \nBei Fragen dürft ihr uns
  jederzeit kontaktieren.\n\n\nKontakt: Hauptverantwortlich Check-in
  Beringen Ladina Delafontaine\, ladina.delafontaine@ref-sh.ch\, 077 460 10
  33\nHauptverantwortlich Check-in Plus Kay Zimmermann\, Mühleweg 4\, 8222
  Beringen\, kay.zimmermann@ref-sh.ch\nJugendarbeiter/ Teambegleitung
  Sebastian Ebi\, sebastian.ebi@ref-sh.ch\, 079 576 99 94\n\nWeitere Infos:
  https://www.ref-sh.ch/veranstaltung/145446
SUMMARY:Check-in Beringen
PRIORITY:5
X-MICROSOFT-CDO-IMPORTANCE:1
CLASS:PUBLIC
END:VEVENT
END:VCALENDAR
