BEGIN:VCALENDAR
PRODID:-//kirchenweb.ch gmbh//veranstaltungsausgabe v2.0//DE
VERSION:2.0
METHOD:PUBLISH
BEGIN:VEVENT
DTSTART:20230520T113000Z
DTEND:20230520T150000Z
LOCATION:\, \,
TRANSP:OPAQUE
SEQUENCE:0
UID:145279-veranstaltung@ref-sh.ch
DTSTAMP:20230520T112256Z
DESCRIPTION:Hallo Zusammen\n\nAm Samstag ist wieder Jungschi! Dazu der
  Samstag vor dem Pfila\, das heisst Pfilavorbereitung :D Wir werden uns
  auf unsere Jockey Karriere vorbereiten.\n\nTreffpunkt:\n13.30 Mesmerhaus
  Löhningen\n\nEnde:\n17:00 Mesmerhaus Löhningen\n\nFalls euer Kind nicht
  am Nachmittag kommen kann\, geht keine Welt unter. \n\nIch mache noch auf
  die Zvieriliste aufmerksam\, https://valentinhuber.me/zvieriliste/ kann
  man sich eintragen und uns als Jungschi unterstützen. Vielen Dank für
  alle Z'Vieris die wir schon bekommen haben!\n\nMitnehmen:\nKleider dem
  Wetter entsprechend\nRucksack mit:\n- Jungschibüechli\n-
  Zündholzschachtel\n- Strick\n- Trinkflasche\n- Sackmesser\n\nBei Fragen
  aller Art\, bei mir melden :)\n\nMit besten Grüssen im Namen des
  Jungschi Teams\n\nMädde\n\nhttps://www.ref-sh.ch/gruppe/jungschiprogramm
  gehts zur Anmeldung für unseren Newsletter\, eine Erinnerung mit den
  Daten zu den Nachmittagen verschicken wir jeweils in der Woche vorher.\n
 \nMatthias Niklaus\n\nKontakt: matthias.niklaus@ref-sh.ch\n\nWeitere
  Infos: https://www.ref-sh.ch/veranstaltung/145279
SUMMARY:Jungschi
PRIORITY:5
X-MICROSOFT-CDO-IMPORTANCE:1
CLASS:PUBLIC
END:VEVENT
END:VCALENDAR
