BEGIN:VCALENDAR
PRODID:-//kirchenweb.ch gmbh//veranstaltungsausgabe v2.0//DE
VERSION:2.0
METHOD:PUBLISH
BEGIN:VEVENT
DTSTART:20230318T123000Z
DTEND:20230318T160000Z
LOCATION:Löhningen\, \,
TRANSP:OPAQUE
SEQUENCE:0
UID:145274-veranstaltung@ref-sh.ch
DTSTAMP:20230318T083618Z
DESCRIPTION:Hallo Zusammen\n\nAm Samstag ist wieder Jungschi! :D Dieses
  mal wird es wild. Mir werden Zöllner antreffen und dabei viel Spass
  haben. \n\nTreffpunkt:\n13.30 Mesmerhaus Löhningen\n\nEnde:\n17:00
  Mesmerhaus Löhningen\n\nMitnehmen:\nKleider dem Wetter entsprechend.
 \ndringend einen Rucksack mit:\n- Jungschibüechli\n- Zündholzschachtel
 \n- Strick\n- Trinkflasche\n- Sackmesser\n\nBei Fragen aller Art:\nZoé
  Werner\nzoe.werner@ref-sh.ch\n076 801 39 39\n\nMit besten Grüssen im
  Namen des Jungschi Teams\n\nMädde\n
 \nhttps://www.ref-sh.ch/gruppe/jungschiprogramm gehts zur Anmeldung für
  unseren Newsletter\, eine Erinnerung mit den Daten zu den Nachmittagen
  verschicken wir jeweils in der Woche vorher.\n\nZoé Werner\n\nKontakt:
  matthias.niklaus@ref-sh.ch\n\nWeitere Infos:
  https://www.ref-sh.ch/veranstaltung/145274
SUMMARY:Jungschi
PRIORITY:5
X-MICROSOFT-CDO-IMPORTANCE:1
CLASS:PUBLIC
END:VEVENT
END:VCALENDAR
