BEGIN:VCALENDAR
PRODID:-//kirchenweb.ch gmbh//veranstaltungsausgabe v2.0//DE
VERSION:2.0
METHOD:PUBLISH
BEGIN:VEVENT
DTSTART:20230101T093500Z
DTEND:20230101T103000Z
LOCATION:Schulhaus Guntmadingen\, Neuengasse 1\, 8223 Guntmadingen
TRANSP:OPAQUE
SEQUENCE:0
UID:145242-veranstaltung@ref-sh.ch
DTSTAMP:20230101T054209Z
DESCRIPTION:Heute leider keine Chindehüeti. \n\nWährend des
  Gottesdienstes werden Kinder bis ungefähr vier Jahren in der
  Chindehüeti betreut.\n\nDer Gottesdienst und die Chindehüeti findet
  https://map.search.ch/Guntmadingen\,Neuengasse-1 statt.\n\nKontakt:
  Brigitte Krisch\n\nWeitere Infos:
  https://www.ref-sh.ch/veranstaltung/145242
SUMMARY:Fällt wegen Krankheit aus: Chindehüeti
PRIORITY:5
X-MICROSOFT-CDO-IMPORTANCE:1
CLASS:PUBLIC
END:VEVENT
END:VCALENDAR
