BEGIN:VCALENDAR
PRODID:-//kirchenweb.ch gmbh//veranstaltungsausgabe v2.0//DE
VERSION:2.0
METHOD:PUBLISH
BEGIN:VEVENT
DTSTART:20230111T130000Z
DTEND:20230111T170000Z
LOCATION:Mesmerhuus\, Kloster 14\, 8224 Löhningen
TRANSP:OPAQUE
SEQUENCE:0
UID:145227-veranstaltung@ref-sh.ch
DTSTAMP:20230110T100516Z
DESCRIPTION:Erwin Hug zeigt zwei Kurzfime.\n"Die Verkehrslösung beim
  Galgenbuck" und\n"Viertagemarsch nach Holland"\n\nKontakt:
  ruedi.spoerndli@ref-sh.ch\n\nWeitere Infos:
  https://www.ref-sh.ch/veranstaltung/145227
SUMMARY:Senioren-Nachmittag
PRIORITY:5
X-MICROSOFT-CDO-IMPORTANCE:1
CLASS:PUBLIC
END:VEVENT
END:VCALENDAR
