BEGIN:VCALENDAR
PRODID:-//kirchenweb.ch gmbh//veranstaltungsausgabe v2.0//DE
VERSION:2.0
METHOD:PUBLISH
BEGIN:VEVENT
DTSTART:20230121T180000Z
DTEND:20230121T190000Z
LOCATION:Kirche Löhningen\, Kloster 3\, 8224 Löhningen
TRANSP:OPAQUE
SEQUENCE:0
UID:145208-veranstaltung@ref-sh.ch
DTSTAMP:20230123T094228Z
DESCRIPTION:88. SamGo Löhningen\, der Jugendgottesdienst für Teenager
  von 5. bis 9. Klasse. Mit Theater-Team (Jonas Ernst und Andrina Ernst)\,
  mit der SamGo-Band und Pfarrer Lukas P. Huber\n\nAnschliessend
  «Check-in» im Mesmerhuus: essen\, tschüttele und spielen mit Philippe
  Niklaus und dem gesamten Check-in-Team.\n\n\nKontakt: Pfarrer Lukas P.
  Huber\n\nWeitere Infos: https://www.ref-sh.ch/veranstaltung/145208
SUMMARY:SamGo Löhningen: «Willst du die Hälfte meiner Schoggi?»
PRIORITY:5
X-MICROSOFT-CDO-IMPORTANCE:1
CLASS:PUBLIC
END:VEVENT
END:VCALENDAR
