BEGIN:VCALENDAR
PRODID:-//kirchenweb.ch gmbh//veranstaltungsausgabe v2.0//DE
VERSION:2.0
METHOD:PUBLISH
BEGIN:VEVENT
DTSTART:20230621T094500Z
DTEND:20230621T104500Z
LOCATION:Alters- und Pflegeheim Ruhesitz\, Zelgstrasse 2\, 8222 Beringen
TRANSP:OPAQUE
SEQUENCE:0
UID:144735-veranstaltung@ref-sh.ch
DTSTAMP:20230404T162318Z
DESCRIPTION:Verbringen Sie ein paar gemütliche Stunden bei einem feinen
  Essen im Kreis Ihrer Bekannten.\n\nKontakt: Anmeldung im Ruhesitz jeweils
  bis Montagmittag vor dem Essen\nTel. 052 685 16 51\n\nWeitere Infos:
  https://www.ref-sh.ch/veranstaltung/144735
SUMMARY:Senioren-Mittagstisch für Löhningen und Guntmadingen
PRIORITY:5
X-MICROSOFT-CDO-IMPORTANCE:1
CLASS:PUBLIC
END:VEVENT
END:VCALENDAR
