BEGIN:VCALENDAR
PRODID:-//kirchenweb.ch gmbh//veranstaltungsausgabe v2.0//DE
VERSION:2.0
METHOD:PUBLISH
BEGIN:VEVENT
DTSTART:20221212T180000Z
DTEND:20221212T200000Z
LOCATION:Pfarrhaus\, Im Chloster 1\, 8214 Gächlingen
TRANSP:OPAQUE
SEQUENCE:0
UID:144444-veranstaltung@ref-sh.ch
DTSTAMP:20221210T145734Z
DESCRIPTION:https://www.junge-kirche-klettgau.ch/bibel-challenge – In
  eineinhalb Jahren durch die Bibel\nTun Sie sich schwer damit\, Bibel zu
  lesen? Falls „Ja“ – Sie sind nicht allein. Es gibt heute nur sehr
  wenige Leute\, die von sich behaupten können\, regelmässig Bibel zu
  lesen. Dabei ist die Bibel eine der wichtigsten Grundlagen unseres
  Glaubens. «Sola scriptura» – nur die Bibel. Das sagte schon Martin
  Luther. Wir möchten euch als Boxenstopp-Team (Gottesdienst für junge
  Erwachsene der Jungen Kirche Klettgau) herzlich einladen zur
  Herausforderunghttps://www.junge-kirche-klettgau.ch/bibel-challenge.\n
 \nStartabende\nFür alle interessierten\, gibt einen Startabende. Dieser
  bietet die Gelegenheit zu sehen\, wer sonst noch alles dabei ist. Es gibt
  aber auch diverse Tricks\, die das tägliche Bibellesen einfacher machen
  können\, die wir euch gerne weitergeben. Auch geben wir euch gerne ein
  wenig Einblick hinter die Kulissen und Gedanken der Bibel Challenge.\n
 \nDer Bibel Challenge Start Abend findet im Pfarrhaus Gächlingen in der
  WG\, https://www.connect-klettgau.ch/connect-house statt.\nStart 19.00
 \nEnde 21.00 \n\n\nKontakt: Sebastian Ebi\n\nWeitere Infos:
  https://www.ref-sh.ch/veranstaltung/144444
SUMMARY:Bibel Challenge Start Abend
PRIORITY:5
X-MICROSOFT-CDO-IMPORTANCE:1
CLASS:PUBLIC
END:VEVENT
END:VCALENDAR
