BEGIN:VCALENDAR
PRODID:-//kirchenweb.ch gmbh//veranstaltungsausgabe v2.0//DE
VERSION:2.0
METHOD:PUBLISH
BEGIN:VEVENT
DTSTART:20230305T090000Z
DTEND:20230305T100000Z
LOCATION:Bergkirche Wilchingen\, Zinggenstrasse\, 8217 Wilchingen
TRANSP:OPAQUE
SEQUENCE:0
UID:144274-veranstaltung@ref-sh.ch
DTSTAMP:20230303T140935Z
DESCRIPTION:anschliessend Kirchencafé\n\nKontakt: Livia Strauss\n
 \nWeitere Infos: https://www.ref-sh.ch/veranstaltung/144274
SUMMARY:Gottesdienst
PRIORITY:5
X-MICROSOFT-CDO-IMPORTANCE:1
CLASS:PUBLIC
END:VEVENT
END:VCALENDAR
