BEGIN:VCALENDAR
PRODID:-//kirchenweb.ch gmbh//veranstaltungsausgabe v2.0//DE
VERSION:2.0
METHOD:PUBLISH
BEGIN:VEVENT
DTSTART:20230319T093000Z
DTEND:20230319T103000Z
LOCATION:Storchensaal\, Hauptstrasse 45\, 8217 Wilchingen
TRANSP:OPAQUE
SEQUENCE:0
UID:144272-veranstaltung@ref-sh.ch
DTSTAMP:20250109T204053Z
DESCRIPTION:Kontakt: Stefan Leistner Baumgardt\n\nWeitere Infos:
  https://www.ref-sh.ch/veranstaltung/144272
SUMMARY:Gottesdienst mit Pastazmittag
PRIORITY:5
X-MICROSOFT-CDO-IMPORTANCE:1
CLASS:PUBLIC
END:VEVENT
END:VCALENDAR
