BEGIN:VCALENDAR
PRODID:-//kirchenweb.ch gmbh//veranstaltungsausgabe v2.0//DE
VERSION:2.0
METHOD:PUBLISH
BEGIN:VEVENT
DTSTART:20230226T093000Z
DTEND:20230226T103000Z
LOCATION:Turnhalle Trasadingen\, \, 8219 Trasadingen
TRANSP:OPAQUE
SEQUENCE:0
UID:144271-veranstaltung@ref-sh.ch
DTSTAMP:20230214T133102Z
DESCRIPTION:Kontakt: Livia Strauss\n\nWeitere Infos:
  https://www.ref-sh.ch/veranstaltung/144271
SUMMARY:Basar-Gottesdienst
PRIORITY:5
X-MICROSOFT-CDO-IMPORTANCE:1
CLASS:PUBLIC
END:VEVENT
END:VCALENDAR
