BEGIN:VCALENDAR
PRODID:-//kirchenweb.ch gmbh//veranstaltungsausgabe v2.0//DE
VERSION:2.0
METHOD:PUBLISH
BEGIN:VEVENT
DTSTART:20230219T090000Z
DTEND:20230219T100000Z
LOCATION:Kirche Osterfingen\, Dorfstrasse 78\, 8218 Osterfingen
TRANSP:OPAQUE
SEQUENCE:0
UID:144270-veranstaltung@ref-sh.ch
DTSTAMP:20230214T092510Z
DESCRIPTION:anschliessend Kirchencafé\n\nKontakt: Livia Strauss\n
 \nWeitere Infos: https://www.ref-sh.ch/veranstaltung/144270
SUMMARY:Gottesdienst
PRIORITY:5
X-MICROSOFT-CDO-IMPORTANCE:1
CLASS:PUBLIC
END:VEVENT
END:VCALENDAR
