BEGIN:VCALENDAR
PRODID:-//kirchenweb.ch gmbh//veranstaltungsausgabe v2.0//DE
VERSION:2.0
METHOD:PUBLISH
BEGIN:VEVENT
DTSTART:20230902T170000Z
DTEND:20230902T180000Z
LOCATION:Kirche Löhningen\, Kloster 3\, 8224 Löhningen
TRANSP:OPAQUE
SEQUENCE:0
UID:144260-veranstaltung@ref-sh.ch
DTSTAMP:20230906T125141Z
DESCRIPTION:94. SamGo Löhningen\, der Jugendgottesdienst für Teenager
  von 5. bis 9. Klasse. Mit Theater-Team (Lukas Huber und Elia Tanner)\,
  mit der SamGo-Band und Pfarrer Lukas P. Huber\n\nAnschliessend
  «Check-in» im Mesmerhuus.\n\nKontakt: Pfarrer Lukas P. Huber\n\nWeitere
  Infos: https://www.ref-sh.ch/veranstaltung/144260
SUMMARY:SamGo Löhningen
PRIORITY:5
X-MICROSOFT-CDO-IMPORTANCE:1
CLASS:PUBLIC
END:VEVENT
END:VCALENDAR
