BEGIN:VCALENDAR
PRODID:-//kirchenweb.ch gmbh//veranstaltungsausgabe v2.0//DE
VERSION:2.0
METHOD:PUBLISH
BEGIN:VEVENT
DTSTART:20230225T080000Z
DTEND:20230225T110000Z
LOCATION:Bergkirche Wilchingen\, Chilchhof 1\, 8217 Wilchingen
TRANSP:OPAQUE
SEQUENCE:0
UID:144231-veranstaltung@ref-sh.ch
DTSTAMP:20230219T094903Z
DESCRIPTION:Kontakt: Stefan Leistner Baumgardt\n\nWeitere Infos:
  https://www.ref-sh.ch/veranstaltung/144231
SUMMARY:KU Gruppe 2023
PRIORITY:5
X-MICROSOFT-CDO-IMPORTANCE:1
CLASS:PUBLIC
END:VEVENT
END:VCALENDAR
