BEGIN:VCALENDAR
PRODID:-//kirchenweb.ch gmbh//veranstaltungsausgabe v2.0//DE
VERSION:2.0
METHOD:PUBLISH
BEGIN:VEVENT
DTSTART:20230709T090000Z
DTEND:20230709T100000Z
LOCATION:im Fohrenwäldli\, \, 8216 Oberhallau
TRANSP:OPAQUE
SEQUENCE:0
UID:144187-veranstaltung@ref-sh.ch
DTSTAMP:20230609T102200Z
DESCRIPTION:Regio-Gottesdienst zum legendären Waldfest. \nMit Taufe und
  Musik.\nBei Regen Gottesdienst in der Kirche Oberhallau.\n\nKontakt:
  Pfarrerin Daniela Scherello\n\nWeitere Infos:
  https://www.ref-sh.ch/veranstaltung/144187
SUMMARY:Regio-Gottesdienst zum Waldfest mit Taufe und Musik
PRIORITY:5
X-MICROSOFT-CDO-IMPORTANCE:1
CLASS:PUBLIC
END:VEVENT
END:VCALENDAR
