BEGIN:VCALENDAR
PRODID:-//kirchenweb.ch gmbh//veranstaltungsausgabe v2.0//DE
VERSION:2.0
METHOD:PUBLISH
BEGIN:VEVENT
DTSTART:20221126T110000Z
DTEND:20221126T111500Z
LOCATION:St.Johann\, Kirchhofplatz\, 8200 Schaffhausen
TRANSP:OPAQUE
SEQUENCE:0
UID:143802-veranstaltung@ref-sh.ch
DTSTAMP:20221122T104958Z
DESCRIPTION:Ökumenisches FRIEDENSGEBET am MITTAG im ADVENT \nJeweils am
  Samstag im Advent von 12.00-12.15 in der Kirche St. Johann: Kerzen\,
  Stille und Gebet für den Frieden\, 26.Nov.; 3./10./17. Dez.\n\n
 \nKontakt: Pfr. Matthias Eichrodt\n\nWeitere Infos:
  https://www.ref-sh.ch/veranstaltung/143802
SUMMARY:Eine Viertelstunde für den Frieden
PRIORITY:5
X-MICROSOFT-CDO-IMPORTANCE:1
CLASS:PUBLIC
END:VEVENT
END:VCALENDAR
