BEGIN:VCALENDAR
PRODID:-//kirchenweb.ch gmbh//veranstaltungsausgabe v2.0//DE
VERSION:2.0
METHOD:PUBLISH
BEGIN:VEVENT
DTSTART:20231226T090000Z
DTEND:20231226T100000Z
LOCATION:La Résidence\, Stettemerstrasse 95\, 8207 Schaffhausen
TRANSP:OPAQUE
SEQUENCE:0
UID:143637-veranstaltung@ref-sh.ch
DTSTAMP:20240403T183057Z
DESCRIPTION:Kontakt: Pfrn. Dorothe Felix\n\nWeitere Infos:
  https://www.ref-sh.ch/veranstaltung/143637
SUMMARY:(gesamtstädtischer) Gottesdienst am zweiten Weihnachtstag mit
  Abendmahl
PRIORITY:5
X-MICROSOFT-CDO-IMPORTANCE:1
CLASS:PUBLIC
END:VEVENT
END:VCALENDAR
