BEGIN:VCALENDAR
PRODID:-//kirchenweb.ch gmbh//veranstaltungsausgabe v2.0//DE
VERSION:2.0
METHOD:PUBLISH
BEGIN:VEVENT
DTSTART:20221206T160000Z
DTEND:20221206T170000Z
LOCATION:Kompetenzzentrum Schönbühl\, Ungarbühlstrasse 4\, 8200
  Schaffhausen
TRANSP:OPAQUE
SEQUENCE:0
UID:143508-veranstaltung@ref-sh.ch
DTSTAMP:20231129T140014Z
DESCRIPTION:Die Fenster sind bis zum 1. Januar 2023 jeweils von 17.00 bis
  ca. 19.30 Uhr beleuchtet.\n\nsjm-advfenster\n\nKontakt: \n\nWeitere
  Infos: https://www.ref-sh.ch/veranstaltung/143508
SUMMARY:Adventsfenster Niklausen
PRIORITY:5
X-MICROSOFT-CDO-IMPORTANCE:1
CLASS:PUBLIC
END:VEVENT
END:VCALENDAR
