BEGIN:VCALENDAR
PRODID:-//kirchenweb.ch gmbh//veranstaltungsausgabe v2.0//DE
VERSION:2.0
METHOD:PUBLISH
BEGIN:VEVENT
DTSTART:20221205T160000Z
DTEND:20221205T170000Z
LOCATION:Coiffeur Alpenblick\, Stimmerstrasse  80\, 8200 Schaffhausen
TRANSP:OPAQUE
SEQUENCE:0
UID:143503-veranstaltung@ref-sh.ch
DTSTAMP:20231129T135927Z
DESCRIPTION:Die Fenster sind bis zum 1. Januar 2023 jeweils von 17.00 bis
  ca19.30Uhr beleuchtet.\nMit Umtrunk\n\nsjm-advfenster\n\n\nKontakt: \n
 \nWeitere Infos: https://www.ref-sh.ch/veranstaltung/143503
SUMMARY:Adventsfenster Niklausen
PRIORITY:5
X-MICROSOFT-CDO-IMPORTANCE:1
CLASS:PUBLIC
END:VEVENT
END:VCALENDAR
