BEGIN:VCALENDAR
PRODID:-//kirchenweb.ch gmbh//veranstaltungsausgabe v2.0//DE
VERSION:2.0
METHOD:PUBLISH
BEGIN:VEVENT
DTSTART:20231111T180000Z
DTEND:20231111T190000Z
LOCATION:Kirche Löhningen\, Kloster 3\, 8224 Löhningen
TRANSP:OPAQUE
SEQUENCE:0
UID:143238-veranstaltung@ref-sh.ch
DTSTAMP:20231227T170519Z
DESCRIPTION:95. SamGo Löhningen\, der Jugendgottesdienst für Teenager
  von 5. bis 9. Klasse. Mit der SamGo-Band und Valentin Huber.\n
 \nAnschliessend «Check-in» im Mesmerhuus.\n\nKontakt: Pfarrer Lukas P.
  Huber\n\nWeitere Infos: https://www.ref-sh.ch/veranstaltung/143238
SUMMARY:SamGo Löhningen
PRIORITY:5
X-MICROSOFT-CDO-IMPORTANCE:1
CLASS:PUBLIC
END:VEVENT
END:VCALENDAR
