BEGIN:VCALENDAR
PRODID:-//kirchenweb.ch gmbh//veranstaltungsausgabe v2.0//DE
VERSION:2.0
METHOD:PUBLISH
BEGIN:VEVENT
DTSTART:20221118T170000Z
DTEND:20221118T200000Z
LOCATION:Ochseschüür\, \,
TRANSP:OPAQUE
SEQUENCE:0
UID:142804-veranstaltung@ref-sh.ch
DTSTAMP:20230316T130916Z
DESCRIPTION:Kontakt: \n\nWeitere Infos:
  https://www.ref-sh.ch/veranstaltung/142804
SUMMARY:PPP Wandern in der Schweiz
PRIORITY:5
X-MICROSOFT-CDO-IMPORTANCE:1
CLASS:PUBLIC
END:VEVENT
END:VCALENDAR
