BEGIN:VCALENDAR
PRODID:-//kirchenweb.ch gmbh//veranstaltungsausgabe v2.0//DE
VERSION:2.0
METHOD:PUBLISH
BEGIN:VEVENT
DTSTART:20240307T133000Z
DTEND:20240307T143000Z
LOCATION:Steigsaal\, Nordstrasse 33\, 8200 Schaffhausen
TRANSP:OPAQUE
SEQUENCE:0
UID:142768-veranstaltung@ref-sh.ch
DTSTAMP:20240311T141124Z
DESCRIPTION:"Mani Matter: sein Leben und seine Lieder" - mit Felix
  Weidkuhn und Peter Weber (Gitarren). Anmeldung: E. Ruckstuhl\, 052 624 20
  76 oder E. Brun\, 052 625 86 79\n\nKontakt: Pfr. Martin Baumgartner\n
 \nWeitere Infos: https://www.ref-sh.ch/veranstaltung/142768
SUMMARY:Themen-Nachmittag
PRIORITY:5
X-MICROSOFT-CDO-IMPORTANCE:1
CLASS:PUBLIC
END:VEVENT
END:VCALENDAR
