BEGIN:VCALENDAR
PRODID:-//kirchenweb.ch gmbh//veranstaltungsausgabe v2.0//DE
VERSION:2.0
METHOD:PUBLISH
BEGIN:VEVENT
DTSTART:20240111T133000Z
DTEND:20240111T143000Z
LOCATION:Steigsaal\, Nordstrasse 33\, 8200 Schaffhausen
TRANSP:OPAQUE
SEQUENCE:0
UID:142765-veranstaltung@ref-sh.ch
DTSTAMP:20240115T081323Z
DESCRIPTION:"Albert Schweitzer: Sein Wirken und Denken". Anmeldung: E.
  Ruckstuhl\, 052 624 20 76 oder E. Brun\, 052 625 86 79\n\nKontakt: \n
 \nWeitere Infos: https://www.ref-sh.ch/veranstaltung/142765
SUMMARY:Themen-Nachmittag
PRIORITY:5
X-MICROSOFT-CDO-IMPORTANCE:1
CLASS:PUBLIC
END:VEVENT
END:VCALENDAR
