BEGIN:VCALENDAR
PRODID:-//kirchenweb.ch gmbh//veranstaltungsausgabe v2.0//DE
VERSION:2.0
METHOD:PUBLISH
BEGIN:VEVENT
DTSTART:20231225T090000Z
DTEND:20231225T100000Z
LOCATION:Kirche Buchthalen\, Windeggstrasse 1\, 8203 Schaffhausen
TRANSP:OPAQUE
SEQUENCE:0
UID:142719-veranstaltung@ref-sh.ch
DTSTAMP:20231219T063511Z
DESCRIPTION:Kontakt: Beatrice Kunz Pfeiffer\n\nWeitere Infos:
  https://www.ref-sh.ch/veranstaltung/142719
SUMMARY:Gottesdienst am Weihnachtstag mit Abendmahl
PRIORITY:5
X-MICROSOFT-CDO-IMPORTANCE:1
CLASS:PUBLIC
END:VEVENT
END:VCALENDAR
