BEGIN:VCALENDAR
PRODID:-//kirchenweb.ch gmbh//veranstaltungsausgabe v2.0//DE
VERSION:2.0
METHOD:PUBLISH
BEGIN:VEVENT
DTSTART:20231224T180000Z
DTEND:20231224T190000Z
LOCATION:HofAckerZentrum\, Alpenstrasse 176\, 8203 Schaffhausen
TRANSP:OPAQUE
SEQUENCE:0
UID:142718-veranstaltung@ref-sh.ch
DTSTAMP:20231106T080535Z
DESCRIPTION:Weihnachtsfeier für Menschen\, die dieses Fest gemeinsam
  erleben möchten. Eintritt frei \nEin Engagement von: \nROUND TABLE 9 &
  CLUB 41 OLD TABLE Schaffhausen\n\nTüröffnung: 18 Uhr\n\nGeh- und
  sehbehinderte Gäste sowie Rollstuhlfahrer werden kostenlos zum
  HofAckerZentrum und nach Hause chauffiert. \nAnmeldung bitte an
  Steinemann Kleinbus AG\, Schaffhausen bis spät. 20. Dezember \nTel. 052
  635 35 35\n\nKontakt: archiv.buchthalen@ref-sh.ch\n\nWeitere Infos:
  https://www.ref-sh.ch/veranstaltung/142718
SUMMARY:Gemeinsam statt Einsam
PRIORITY:5
X-MICROSOFT-CDO-IMPORTANCE:1
CLASS:PUBLIC
END:VEVENT
END:VCALENDAR
